BEGIN:VCALENDAR
VERSION:2.0
PRODID:-//Kilchberg Aktuell - ECPv6.15.20//NONSGML v1.0//EN
CALSCALE:GREGORIAN
METHOD:PUBLISH
X-WR-CALNAME:Kilchberg Aktuell
X-ORIGINAL-URL:https://www.kilchberg-aktuell.de
X-WR-CALDESC:Veranstaltungen im Kilchberg Aktuell
REFRESH-INTERVAL;VALUE=DURATION:PT1H
X-Robots-Tag:noindex
X-PUBLISHED-TTL:PT1H
BEGIN:VTIMEZONE
TZID:Europe/Berlin
BEGIN:DAYLIGHT
TZOFFSETFROM:+0100
TZOFFSETTO:+0200
TZNAME:CEST
DTSTART:20250330T010000
END:DAYLIGHT
BEGIN:STANDARD
TZOFFSETFROM:+0200
TZOFFSETTO:+0100
TZNAME:CET
DTSTART:20251026T010000
END:STANDARD
BEGIN:DAYLIGHT
TZOFFSETFROM:+0100
TZOFFSETTO:+0200
TZNAME:CEST
DTSTART:20260329T010000
END:DAYLIGHT
BEGIN:STANDARD
TZOFFSETFROM:+0200
TZOFFSETTO:+0100
TZNAME:CET
DTSTART:20261025T010000
END:STANDARD
BEGIN:DAYLIGHT
TZOFFSETFROM:+0100
TZOFFSETTO:+0200
TZNAME:CEST
DTSTART:20270328T010000
END:DAYLIGHT
BEGIN:STANDARD
TZOFFSETFROM:+0200
TZOFFSETTO:+0100
TZNAME:CET
DTSTART:20271031T010000
END:STANDARD
END:VTIMEZONE
BEGIN:VEVENT
DTSTART;TZID=Europe/Berlin:20260620T110000
DTEND;TZID=Europe/Berlin:20260620T190000
DTSTAMP:20260420T073444
CREATED:20260419T153352Z
LAST-MODIFIED:20260419T190422Z
UID:25052-1781953200-1781982000@www.kilchberg-aktuell.de
SUMMARY:Kombi Cup Kilchberg
DESCRIPTION:Im Rahmen des 100-jährigen Jubiläums des CVJM Kilchberg laden wir alle\nherzlich zum Kombi Cup ein! \nWas: Dreier-Teams treten in sechs verschiedenen Sportarten gegeneinander an >> Bump Out\, Cornhole\, Indiaka\, Spikeball\, Völkerball\, Wikinger Schach. \nWann: Samstag\, 20. Juni 2026\, ab 11.00 Uhr \nWo: Auf dem Talhäuser in Kilchberg\, CVJM-Sportplatz im Rammert (in Verlängerung der Talhäuser Straße am Friedhof vorbei dem Sträßle durch den Wald bis zum Sportplatz folgen >> F2JC+PW2\, Tübingen) \nWer: Alle ab 14 Jahren \nAnmeldung:\nMeldet Euch bitte mit Team-Name und Teilnehmer/innen-Namen\nbis Montag\, 15. Juni 2026\, an\nunter kombicup@cvjm-kilchberg.de.\nSchreibt uns\, falls Ihr Fragen habt.\nFür das leibliche Wohl ist gesorgt!\nWir freuen uns auf Euch!
URL:https://www.kilchberg-aktuell.de/event/__trashed-5/
LOCATION:Talhäuser CVJM-Sportplatz\, F2JC+PW2 Tübingen
CATEGORIES:CVJM Kilchberg,CVJM- Jubiläum,Kinder & Jugend,Sport,Wettbewerb
ATTACH;FMTTYPE=image/png:https://www.kilchberg-aktuell.de/wp-content/uploads/sites/387/2026/04/CVJM_KombiCup-2026-Plakat-A3-Querformat-scaled.png
END:VEVENT
END:VCALENDAR