BEGIN:VCALENDAR
VERSION:2.0
PRODID:-//Kilchberg Aktuell - ECPv6.15.20//NONSGML v1.0//EN
CALSCALE:GREGORIAN
METHOD:PUBLISH
X-WR-CALNAME:Kilchberg Aktuell
X-ORIGINAL-URL:https://www.kilchberg-aktuell.de
X-WR-CALDESC:Veranstaltungen im Kilchberg Aktuell
REFRESH-INTERVAL;VALUE=DURATION:PT1H
X-Robots-Tag:noindex
X-PUBLISHED-TTL:PT1H
BEGIN:VTIMEZONE
TZID:Europe/Berlin
BEGIN:DAYLIGHT
TZOFFSETFROM:+0100
TZOFFSETTO:+0200
TZNAME:CEST
DTSTART:20240331T010000
END:DAYLIGHT
BEGIN:STANDARD
TZOFFSETFROM:+0200
TZOFFSETTO:+0100
TZNAME:CET
DTSTART:20241027T010000
END:STANDARD
BEGIN:DAYLIGHT
TZOFFSETFROM:+0100
TZOFFSETTO:+0200
TZNAME:CEST
DTSTART:20250330T010000
END:DAYLIGHT
BEGIN:STANDARD
TZOFFSETFROM:+0200
TZOFFSETTO:+0100
TZNAME:CET
DTSTART:20251026T010000
END:STANDARD
BEGIN:DAYLIGHT
TZOFFSETFROM:+0100
TZOFFSETTO:+0200
TZNAME:CEST
DTSTART:20260329T010000
END:DAYLIGHT
BEGIN:STANDARD
TZOFFSETFROM:+0200
TZOFFSETTO:+0100
TZNAME:CET
DTSTART:20261025T010000
END:STANDARD
END:VTIMEZONE
BEGIN:VEVENT
DTSTART;TZID=Europe/Berlin:20250529T110000
DTEND;TZID=Europe/Berlin:20250529T150000
DTSTAMP:20260419T170856
CREATED:20250524T110840Z
LAST-MODIFIED:20250524T110840Z
UID:20363-1748516400-1748530800@www.kilchberg-aktuell.de
SUMMARY:Himmelfahrt - Gottesdienst im Grünen für Jung und Alt
DESCRIPTION:um 11.00 Uhr auf dem Sportplatz hinter der Kilchberger Grundschule beim Dreschschuppen mit Vikar Gröger und dem Posaunenchor. Das Opfer beim Gottesdienst ist für die Weltmission bestimmt. \nIm Anschluss ist Gelegenheit\, noch zusammenzubleiben und gemeinsam zu grillen. Grillgut und Geschirr bitte mitbringen\, Grills werden vom CVJM gestellt. Getränke\, Kaffee und Kuchen können gekauft werden. Für Kinder gibt es ein offenes Spiele- und ein Bastelangebot vom CVJM. \nSchön wäre es\, wenn viele einen Beitrag (Salat o. Ä.) für ein gemeinsames Buffet mitbringen könnten. Auch über Kuchenspenden freuen wir uns; bitte melden Sie sich dazu im Vorfeld bei H. Hopp  (Telefon 07071 72810). \nBei Regenwetter finden Gottesdienst und anschließendes gemütliches Beisammensein im Dreschschuppen statt.
URL:https://www.kilchberg-aktuell.de/event/himmelfahrt-gottesdienst-im-gruenen-fuer-jung-und-alt/
LOCATION:Dreschschuppen\, Talhäuser Straße 32\, Kilchberg\, 72072
ATTACH;FMTTYPE=image/jpeg:https://www.kilchberg-aktuell.de/wp-content/uploads/sites/387/2025/05/CVJM_Himmelfahrt-2017-P1330963-scaled.jpg
END:VEVENT
END:VCALENDAR